BEGIN:VCALENDAR
VERSION:2.0
PRODID:-//McIntyre Hall - ECPv6.2.3.1//NONSGML v1.0//EN
CALSCALE:GREGORIAN
METHOD:PUBLISH
X-ORIGINAL-URL:https://mcintyrehall.org
X-WR-CALDESC:Events for McIntyre Hall
REFRESH-INTERVAL;VALUE=DURATION:PT1H
X-Robots-Tag:noindex
X-PUBLISHED-TTL:PT1H
BEGIN:VTIMEZONE
TZID:America/Los_Angeles
BEGIN:DAYLIGHT
TZOFFSETFROM:-0800
TZOFFSETTO:-0700
TZNAME:PDT
DTSTART:20260308T100000
END:DAYLIGHT
BEGIN:STANDARD
TZOFFSETFROM:-0700
TZOFFSETTO:-0800
TZNAME:PST
DTSTART:20261101T090000
END:STANDARD
END:VTIMEZONE
BEGIN:VEVENT
DTSTART;TZID=America/Los_Angeles:20260516T130000
DTEND;TZID=America/Los_Angeles:20260516T143000
DTSTAMP:20260422T083724
CREATED:20250811T201956Z
LAST-MODIFIED:20250811T201956Z
UID:18540-1778936400-1778941800@mcintyrehall.org
SUMMARY:A Time To Shine
DESCRIPTION:Northwest Youth Symphony Association \nA Tine To Shine \nSaturday\, May 16     1:00pm \nCelebrate the culmination of the season with a showcase of excellence and dedication. Senior soloists\, exceptional high school musicians\, take center stage\, performing musical works with full orchestral accompaniment. This inspiring concert also features string performances by our symphonies (ages 6-14)\, concluding with a bold and spirited finale to mark the close of another remarkable year. \nTickets   All sales are final at time of purchase. Backpacks and large bags are not permitted. \nSubscriptions Available!
URL:https://mcintyrehall.org/event/a-time-to-shine/
LOCATION:Mainstage – McIntyre Hall Performing Arts & Conference Center\, 2501 E College Way\, Mount Vernon\, WA\, 98273\, United States
CATEGORIES:Northwest Youth Symphony Association,Symphony
ATTACH;FMTTYPE=image/jpeg:https://mcintyrehall.org/wp-content/uploads/0202/08/NYSA-Horns-scaled.jpg
END:VEVENT
BEGIN:VEVENT
DTSTART;TZID=America/Los_Angeles:20260516T193000
DTEND;TZID=America/Los_Angeles:20260516T213000
DTSTAMP:20260422T083724
CREATED:20250805T193711Z
LAST-MODIFIED:20250806T183402Z
UID:18415-1778959800-1778967000@mcintyrehall.org
SUMMARY:The Great British Music Show
DESCRIPTION:Skagit Symphony Presents \nThe Great British Music Show \nSaturday\, May 16     7:30pm \nSkagit Symphony is baking up a delicious finish to their Cult Classical season. Prove you’ll rise to the occasion by kneading to hear Holst’s The Planets with special guest Vox Pacifica! Soprano Renee Rybolt illuminates McIntyre Hall with Herbert Howell’s idyllic In Green Ways. \nPre-Concert chat 45 minutes prior to the concert. \nTickets   All sales are final at time of purchase. Backpacks and large bags are not permitted. \nThe Skagit Symphony offers a 4 concert season subscription. The same seats are guaranteed for each performance\, plus subscribers have the option to add on 2 special\nevents. A 10% discount is offered for orders placed before August 31.\nStranger Strings | November 1\nW inter Is Coming | December 13\nCheers! | March 14\nThe Great British Music Show | May 16\nAdd Ons: Family Concert & Music Fair | January 25\nSkagit Pops ! The Final Frontier I June 14 \nThis event is part of the Create Your Own Series (CYO). The Create Your Own Series Subscription CYO gives you the freedom to choose all the shows that you want to see. Simply select at least 4 CYO events & SAVE! Discount is taken off in your cart. Some restrictions may apply. Events included in this series are noted as CYO in the brochure and online. \nThe More You Choose ~ The More You Save!\n4 or More Events – Save 10%\n6 or More Events – Save 15%\n8 or More Events – Save 20% \n 
URL:https://mcintyrehall.org/event/the-great-british-music-show/
LOCATION:Mainstage – McIntyre Hall Performing Arts & Conference Center\, 2501 E College Way\, Mount Vernon\, WA\, 98273\, United States
CATEGORIES:CYO Subscription Series,Skagit Symphony,Symphony
ATTACH;FMTTYPE=image/jpeg:https://mcintyrehall.org/wp-content/uploads/2025/08/05-May-Great-British-Music-Show.jpg
END:VEVENT
BEGIN:VEVENT
DTSTART;TZID=America/Los_Angeles:20260519T190000
DTEND;TZID=America/Los_Angeles:20260519T203000
DTSTAMP:20260422T083724
CREATED:20250821T193520Z
LAST-MODIFIED:20250821T193520Z
UID:18649-1779217200-1779222600@mcintyrehall.org
SUMMARY:Sedro-Woolley Orchestras
DESCRIPTION:Sedro-Woolley School Districts \nSedro-Woolley Orchestras \nTuesday\, May 19     7:00pm \nEnjoy an evening of music featuring the entire Sedro-Woolley SD Orchestra Program\, grades 6-12\, under the direction of Poul Brask. The concert will feature each grade-level orchestra\, as well as combined\, multi-level performances. This event and free admission is made possible by a grant from the Skagit Community Foundation\, with support from the Sedro-Woolley Music Boosters. \nTICKETS: Free General admission. No Tickets Required. Backpacks and large bags are not permitted.
URL:https://mcintyrehall.org/event/sedro-woolley-orchestras/
LOCATION:Mainstage – McIntyre Hall Performing Arts & Conference Center\, 2501 E College Way\, Mount Vernon\, WA\, 98273\, United States
CATEGORIES:Symphony
ATTACH;FMTTYPE=image/jpeg:https://mcintyrehall.org/wp-content/uploads/2025/08/Sedro-Orch-McIntyre-Brochure-Photo.jpg
END:VEVENT
BEGIN:VEVENT
DTSTART;TZID=America/Los_Angeles:20260614T150000
DTEND;TZID=America/Los_Angeles:20260614T170000
DTSTAMP:20260422T083724
CREATED:20250805T194631Z
LAST-MODIFIED:20250805T194631Z
UID:18419-1781449200-1781456400@mcintyrehall.org
SUMMARY:Skagit Pops: The Final Frontier
DESCRIPTION:Skagit Symphony Presents \nSkagit Pops: The Final Frontier \nSunday\, June 14     3:00pm \n“Space\, the final frontier…” a cult classic and the inspiration for the most epic film music for orchestra. We’ll take you where no one has gone before with the music from Star Trek\, Doctor Who\, Galaxy Quest\, Star Wars\, and more. \nTickets   All sales are final at time of purchase. Backpacks and large bags are not permitted.
URL:https://mcintyrehall.org/event/skagit-pops-the-final-frontier/
LOCATION:Mainstage – McIntyre Hall Performing Arts & Conference Center\, 2501 E College Way\, Mount Vernon\, WA\, 98273\, United States
CATEGORIES:Skagit Symphony,Symphony
ATTACH;FMTTYPE=image/jpeg:https://mcintyrehall.org/wp-content/uploads/2025/08/06-Jun-The-Final-Frontier-w-text.jpg
END:VEVENT
END:VCALENDAR